BEGIN:VCALENDAR
VERSION:2.0
PRODID:-//Personeelsvereniging &#039;t Huus uut - ECPv6.15.20//NONSGML v1.0//EN
CALSCALE:GREGORIAN
METHOD:PUBLISH
X-WR-CALNAME:Personeelsvereniging &#039;t Huus uut
X-ORIGINAL-URL:https://www.huusuut.nl
X-WR-CALDESC:Evenementen voor Personeelsvereniging &#039;t Huus uut
REFRESH-INTERVAL;VALUE=DURATION:PT1H
X-Robots-Tag:noindex
X-PUBLISHED-TTL:PT1H
BEGIN:VTIMEZONE
TZID:Europe/Amsterdam
BEGIN:DAYLIGHT
TZOFFSETFROM:+0100
TZOFFSETTO:+0200
TZNAME:CEST
DTSTART:20250330T010000
END:DAYLIGHT
BEGIN:STANDARD
TZOFFSETFROM:+0200
TZOFFSETTO:+0100
TZNAME:CET
DTSTART:20251026T010000
END:STANDARD
BEGIN:DAYLIGHT
TZOFFSETFROM:+0100
TZOFFSETTO:+0200
TZNAME:CEST
DTSTART:20260329T010000
END:DAYLIGHT
BEGIN:STANDARD
TZOFFSETFROM:+0200
TZOFFSETTO:+0100
TZNAME:CET
DTSTART:20261025T010000
END:STANDARD
BEGIN:DAYLIGHT
TZOFFSETFROM:+0100
TZOFFSETTO:+0200
TZNAME:CEST
DTSTART:20270328T010000
END:DAYLIGHT
BEGIN:STANDARD
TZOFFSETFROM:+0200
TZOFFSETTO:+0100
TZNAME:CET
DTSTART:20271031T010000
END:STANDARD
END:VTIMEZONE
BEGIN:VEVENT
DTSTART;VALUE=DATE:20260514
DTEND;VALUE=DATE:20260515
DTSTAMP:20260421T102134
CREATED:20260113T160901Z
LAST-MODIFIED:20260310T154039Z
UID:330509-1778716800-1778803199@www.huusuut.nl
SUMMARY:Ga je mee? Fietstocht met Hemelvaart!
DESCRIPTION:Op donderdag 14 mei 2026 organiseert ’t Huus uut weer een gezellige Hemelvaart fietstocht. Een mooie gelegenheid om samen met collega’s\, familie of vrienden op pad te gaan en te genieten van een heerlijke dag in de buitenlucht. \nEr zijn drie verschillende routes uitgezet\, zodat iedereen kan meedoen: \n\n20 km\n37 km\n50 km\n\nOf je nu rustig een rondje wilt fietsen of juist een wat langere tocht wilt maken\, er is voor ieder wat wils. \nDe start is bij Gronausestraat 425 in Enschede. Je kunt vertrekken tussen 10.00 en 11.00 uur. Voor onderweg ontvangt iedere deelnemer bovendien een gevulde tas met lekkers\, zodat je onderweg even kunt genieten van een welverdiende pauze. \nDeelname is gratis\, maar vergeet niet om vóór 7 mei een ticket te reserveren. Zo weten we hoeveel deelnemers we kunnen verwachten. \nDus: pomp je banden op\, nodig je fietsmaatjes uit en maak er samen een sportieve en gezellige Hemelvaartsdag van!
URL:https://www.huusuut.nl/evenementen/hemelvaart-fietstocht/
ATTACH;FMTTYPE=image/jpeg:https://www.huusuut.nl/wp-content/uploads/2023/01/fietstocht.jpeg
END:VEVENT
BEGIN:VEVENT
DTSTART;VALUE=DATE:20260531
DTEND;VALUE=DATE:20260601
DTSTAMP:20260421T102134
CREATED:20260113T162333Z
LAST-MODIFIED:20260305T090602Z
UID:330511-1780185600-1780271999@www.huusuut.nl
SUMMARY:Voetbaltoernooi 2026 - Doe jij mee? [Let op: locatie gewijzigd!]
DESCRIPTION:Op zondag 31 mei 2026 organiseert de personeelsvereniging het Voetbaltoernooi 2026 . Een sportieve en gezellige dag voor iedereen die zin heeft om samen het veld op te gaan of langs de lijn te genieten. Alle medewerkers (ja\, ook onze vestigingen!) mogen deelnemen aan dit evenement. \nWe spelen een 7-tegen-7 toernooi op half veld ( 1x 15 minuten)\, gemengde teams zijn toegestaan. Het toernooi is bedoeld voor alle medewerkers. Partners en kinderen zijn van harte welkom om te komen kijken en aan te moedigen. De wedstrijden worden gespeeld in een poulefase\, gevolgd door halve finales en een spannende finale. Uiteraard ligt de wisselbeker klaar voor het winnende team. \nTijdens de dag is de kantine geopend voor eten en drinken. Vanuit de personeelsvereniging wordt gezorgd voor een drankje en een snack voor de deelnemers\, zodat er genoeg energie is om de strijd tegen de collega’s aan te gaan. \nInschrijven kan vanaf nu! Dit gaat per team. Bij de inschrijving moeten de namen van de spelers en de coach worden ingevuld. Een team bestaat uit 8 personen\, inclusief coach. Er is plek voor maximaal 8 teams en deelname is gratis. \nPraktische informatie \n\nTijd: ca. 11.00 – 17.30 uur\nLocatie: Voetbalvereniging E.V. & A.C. De Tubanters 1897\nKleding: eigen sportkleding/shirts (de PV heeft één teamset is te leen)\nParkeren: mogelijk bij de voetbalclub\n\nDoe jij mee? Geef je team dan nu op! Inschrijfdeadline is 7 maart 2026\, in verband met de beschikbaarheid van de locatie. Vol = vol. \nLet op: Wegens onvoldoende interesse vanuit de vestigingen\, is besloten de locatie te wijzigen naar een locatie in Enschede.
URL:https://www.huusuut.nl/evenementen/voetbaltoernooi/
LOCATION:Voetbalvereniging E.V. & A.C. De Tubanters 1897\, Olympialaan 20 (Sportpark “Het Diekman”)\, Enschede\, 7541 BK\, Netherlands
ATTACH;FMTTYPE=image/png:https://www.huusuut.nl/wp-content/uploads/2026/01/ChatGPT-Image-13-jan-2026-17_22_16.png
END:VEVENT
BEGIN:VEVENT
DTSTART;VALUE=DATE:20260611
DTEND;VALUE=DATE:20260720
DTSTAMP:20260421T102134
CREATED:20260408T082610Z
LAST-MODIFIED:20260408T082610Z
UID:330984-1781136000-1784505599@www.huusuut.nl
SUMMARY:WK voetbal poule 2026
DESCRIPTION:Doe mee en maak kans op mooie prijzen! \nHet WK voetbal komt eraan… en dat betekent: tijd voor onze personeelsvereniging WK poule! \nVoorspel de uitslagen\, daag je collega’s uit en volg samen de strijd om de titel. Of je nu een doorgewinterde voetbalanalist bent of gewoon op gevoel speelt — iedereen maakt kans! \nDeelname is gratis voor alle medewerkers\, alleen leden van de personeelsvereniging maken kans op prijzen. \nDus twijfel je nog over je voorspellingen? Gewoon meedoen! Het draait om plezier\, spanning en een beetje gezonde competitie. \nKijk op Plaza of Afas pocket\, hier kan je de QR-code vinden om mee te doen aan deze WK poule!
URL:https://www.huusuut.nl/evenementen/wk-voetbal-poule-2026/
ATTACH;FMTTYPE=image/png:https://www.huusuut.nl/wp-content/uploads/2026/04/Header-WK.png
END:VEVENT
BEGIN:VEVENT
DTSTART;VALUE=DATE:20260704
DTEND;VALUE=DATE:20260705
DTSTAMP:20260421T102134
CREATED:20260313T150742Z
LAST-MODIFIED:20260313T155800Z
UID:330843-1783123200-1783209599@www.huusuut.nl
SUMMARY:Met korting naar In Het Volkspark Festival!
DESCRIPTION:Yes! PV ’t Huus uut biedt leden de mogelijkheid om kaarten te kopen voor het In Het Volkspark Festival in Enschede tegen een gereduceerde prijs. \nEen mooie kans om samen met je collega’s\, partner\, familielid of een vriend(in) te genieten van een gezellig festival in het Volkspark. \nStart je zomer met o.a. DI-RECT\, De Jeugd Van Tegenwoordig\, Roxy Dekker en Miss Montreal in het groene hart van Enschede. \nInteresse?\nKoop nu je ticket en wij zorgen dat je de kaarten toegestuurd krijgt.\nOp = op\, dus wees er snel bij! \nMeer informatie over het festival vind je op: In Het Volkspark Festival \nVoorwaarden \n\nDit aanbod is alleen voor leden van PV ’t Huus uut. Maximaal 1 ticket per lid.\nEen introductieticket is alleen geldig in combinatie met 1 ledenticket.\nMaximaal 1 introductieticket per ledenticket.\nHet ticket is niet in te wisselen tegen contanten.\nTickets zijn te bestellen tot 6 juni 2026.
URL:https://www.huusuut.nl/evenementen/met-korting-naar-in-het-volkspark-festival/
LOCATION:Het Volkspark\, Parkweg\, Enschede\, 7513 CN\, Netherlands
ATTACH;FMTTYPE=image/jpeg:https://www.huusuut.nl/wp-content/uploads/2026/03/2020_volkspark_event_1200x628_zonder2.jpg
END:VEVENT
END:VCALENDAR